Package: interactiveDisplay Version: 1.47.1 Command: /home/biocbuild/bbs-3.23-bioc/R/bin/R CMD INSTALL interactiveDisplay StartedAt: 2025-10-22 21:45:24 -0000 (Wed, 22 Oct 2025) EndedAt: 2025-10-22 21:45:48 -0000 (Wed, 22 Oct 2025) EllapsedTime: 24.1 seconds RetCode: 0 Status: OK