Package: interactiveDisplay Version: 1.47.1 Command: /home/biocbuild/bbs-3.23-bioc/R/bin/R CMD build --keep-empty-dirs --no-resave-data interactiveDisplay StartedAt: 2025-10-22 23:22:06 -0000 (Wed, 22 Oct 2025) EndedAt: 2025-10-22 23:22:58 -0000 (Wed, 22 Oct 2025) EllapsedTime: 52.0 seconds RetCode: 0 Status: OK PackageFile: interactiveDisplay_1.47.1.tar.gz PackageFileSize: 4.562 MiB