Package: immunogenViewer Version: 1.5.0 Command: /home/biocbuild/bbs-3.23-bioc/R/bin/R CMD INSTALL immunogenViewer StartedAt: 2025-11-07 15:33:08 -0500 (Fri, 07 Nov 2025) EndedAt: 2025-11-07 15:33:22 -0500 (Fri, 07 Nov 2025) EllapsedTime: 14.7 seconds RetCode: 0 Status: OK