Package: immunogenViewer Version: 1.5.0 Command: /home/biocbuild/bbs-3.23-bioc/R/bin/R CMD build --keep-empty-dirs --no-resave-data immunogenViewer StartedAt: 2025-11-07 18:07:56 -0500 (Fri, 07 Nov 2025) EndedAt: 2025-11-07 18:08:52 -0500 (Fri, 07 Nov 2025) EllapsedTime: 56.0 seconds RetCode: 0 Status: OK PackageFile: immunogenViewer_1.5.0.tar.gz PackageFileSize: 569.4 KiB