Package: iNETgrate Version: 1.9.0 Command: /home/biocbuild/bbs-3.23-bioc/R/bin/R CMD INSTALL iNETgrate StartedAt: 2025-11-17 15:59:59 -0500 (Mon, 17 Nov 2025) EndedAt: 2025-11-17 16:01:00 -0500 (Mon, 17 Nov 2025) EllapsedTime: 60.9 seconds RetCode: 0 Status: OK