Package: iModMix Version: 1.1.0 Command: /home/biocbuild/bbs-3.23-bioc/R/bin/R CMD INSTALL iModMix StartedAt: 2025-11-07 15:43:49 -0500 (Fri, 07 Nov 2025) EndedAt: 2025-11-07 15:43:55 -0500 (Fri, 07 Nov 2025) EllapsedTime: 6.4 seconds RetCode: 0 Status: OK