Package: iModMix Version: 1.1.0 Command: /home/biocbuild/bbs-3.23-bioc/R/bin/R CMD build --keep-empty-dirs --no-resave-data iModMix StartedAt: 2025-11-07 18:09:01 -0500 (Fri, 07 Nov 2025) EndedAt: 2025-11-07 18:09:36 -0500 (Fri, 07 Nov 2025) EllapsedTime: 35.0 seconds RetCode: 0 Status: OK PackageFile: iModMix_1.1.0.tar.gz PackageFileSize: 10.48 MiB