Package: iClusterPlus Version: 1.47.0 Maintainer: Qianxing Mo , Ronglai Shen MaintainerEmail: shenr at mskcc.org git_url: https://git.bioconductor.org/packages/iClusterPlus git_branch: devel git_last_commit: c6eaa12 git_last_commit_date: 2025-10-29 10:17:49 -0500 (Wed, 29 Oct 2025)