Package: hyperdraw Version: 1.63.0 Maintainer: Paul Murrell MaintainerEmail: p.murrell at auckland.ac.nz git_url: https://git.bioconductor.org/packages/hyperdraw git_branch: devel git_last_commit: 5f06f53 git_last_commit_date: 2025-10-29 10:04:13 -0500 (Wed, 29 Oct 2025)