Package: hmdbQuery Version: 1.31.0 Command: /home/biocbuild/bbs-3.23-bioc/R/bin/R CMD INSTALL hmdbQuery StartedAt: 2025-11-26 15:13:12 -0500 (Wed, 26 Nov 2025) EndedAt: 2025-11-26 15:13:17 -0500 (Wed, 26 Nov 2025) EllapsedTime: 5.2 seconds RetCode: 0 Status: OK