Package: hiReadsProcessor Version: 1.45.1 Command: /home/biocbuild/bbs-3.23-bioc/R/bin/R CMD INSTALL hiReadsProcessor StartedAt: 2025-10-22 21:38:02 -0000 (Wed, 22 Oct 2025) EndedAt: 2025-10-22 21:38:42 -0000 (Wed, 22 Oct 2025) EllapsedTime: 39.5 seconds RetCode: 0 Status: OK