Package: hiReadsProcessor Version: 1.45.1 Command: /home/biocbuild/bbs-3.23-bioc/R/bin/R CMD build --keep-empty-dirs --no-resave-data hiReadsProcessor StartedAt: 2025-10-22 23:15:46 -0000 (Wed, 22 Oct 2025) EndedAt: 2025-10-22 23:16:43 -0000 (Wed, 22 Oct 2025) EllapsedTime: 57.0 seconds RetCode: 0 Status: OK PackageFile: hiReadsProcessor_1.45.1.tar.gz PackageFileSize: 3.148 MiB