Package: gsean Version: 1.31.0 Command: /home/biocbuild/bbs-3.23-bioc/R/bin/R CMD INSTALL gsean StartedAt: 2025-11-21 15:33:46 -0500 (Fri, 21 Nov 2025) EndedAt: 2025-11-21 15:34:10 -0500 (Fri, 21 Nov 2025) EllapsedTime: 23.5 seconds RetCode: 0 Status: OK