Package: gsean Version: 1.31.0 Command: /home/biocbuild/bbs-3.23-bioc/R/bin/R CMD build --keep-empty-dirs --no-resave-data gsean StartedAt: 2025-11-21 17:58:44 -0500 (Fri, 21 Nov 2025) EndedAt: 2025-11-21 17:59:45 -0500 (Fri, 21 Nov 2025) EllapsedTime: 61.1 seconds RetCode: 0 Status: OK PackageFile: gsean_1.31.0.tar.gz PackageFileSize: 1.535 MiB