Package: graph Version: 1.89.0 Command: /home/biocbuild/bbs-3.23-bioc/R/bin/R CMD INSTALL graph StartedAt: 2025-11-09 15:11:28 -0500 (Sun, 09 Nov 2025) EndedAt: 2025-11-09 15:11:40 -0500 (Sun, 09 Nov 2025) EllapsedTime: 11.8 seconds RetCode: 0 Status: OK