Package: gpls Version: 1.83.0 Command: /home/biocbuild/bbs-3.23-bioc/R/bin/R CMD INSTALL gpls StartedAt: 2025-11-07 15:02:37 -0500 (Fri, 07 Nov 2025) EndedAt: 2025-11-07 15:02:40 -0500 (Fri, 07 Nov 2025) EllapsedTime: 3.4 seconds RetCode: 0 Status: OK