Package: gpls Version: 1.83.0 Command: /home/biocbuild/bbs-3.23-bioc/R/bin/R CMD build --keep-empty-dirs --no-resave-data gpls StartedAt: 2025-11-09 17:52:00 -0500 (Sun, 09 Nov 2025) EndedAt: 2025-11-09 17:52:09 -0500 (Sun, 09 Nov 2025) EllapsedTime: 9.0 seconds RetCode: 0 Status: OK PackageFile: gpls_1.83.0.tar.gz PackageFileSize: 233.2 KiB