Package: getDEE2 Version: 1.21.0 Command: /home/biocbuild/bbs-3.23-bioc/R/bin/R CMD INSTALL getDEE2 StartedAt: 2025-11-18 16:11:03 -0500 (Tue, 18 Nov 2025) EndedAt: 2025-11-18 16:11:22 -0500 (Tue, 18 Nov 2025) EllapsedTime: 18.8 seconds RetCode: 0 Status: OK