Package: getDEE2 Version: 1.21.0 Command: /home/biocbuild/bbs-3.23-bioc/R/bin/R CMD build --keep-empty-dirs --no-resave-data getDEE2 StartedAt: 2025-11-18 18:40:22 -0500 (Tue, 18 Nov 2025) EndedAt: 2025-11-18 18:42:10 -0500 (Tue, 18 Nov 2025) EllapsedTime: 107.1 seconds RetCode: 0 Status: OK PackageFile: getDEE2_1.21.0.tar.gz PackageFileSize: 23.56 KiB