Package: gemma.R Version: 3.7.0 Command: /home/biocbuild/bbs-3.23-bioc/R/bin/R CMD INSTALL gemma.R StartedAt: 2025-11-07 15:18:17 -0500 (Fri, 07 Nov 2025) EndedAt: 2025-11-07 15:18:22 -0500 (Fri, 07 Nov 2025) EllapsedTime: 5.2 seconds RetCode: 0 Status: OK