Package: gemma.R Version: 3.7.0 Command: /home/biocbuild/bbs-3.23-bioc/R/bin/R CMD build --keep-empty-dirs --no-resave-data gemma.R StartedAt: 2025-11-07 17:40:08 -0500 (Fri, 07 Nov 2025) EndedAt: 2025-11-07 17:44:31 -0500 (Fri, 07 Nov 2025) EllapsedTime: 262.3 seconds RetCode: 0 Status: OK PackageFile: gemma.R_3.7.0.tar.gz PackageFileSize: 2.284 MiB