Package: gemma.R Version: 3.7.0 Maintainer: Ogan Mancarci MaintainerEmail: ogan.mancarci at gmail.com git_url: https://git.bioconductor.org/packages/gemma.R git_branch: devel git_last_commit: 8486536 git_last_commit_date: 2025-10-29 11:18:54 -0500 (Wed, 29 Oct 2025)