Package: geNetClassifier Version: 1.51.0 Command: /home/biocbuild/bbs-3.23-bioc/R/bin/R CMD INSTALL geNetClassifier StartedAt: 2025-11-07 15:57:34 -0500 (Fri, 07 Nov 2025) EndedAt: 2025-11-07 15:57:42 -0500 (Fri, 07 Nov 2025) EllapsedTime: 8.3 seconds RetCode: 0 Status: OK