Package: geNetClassifier Version: 1.51.0 Command: /home/biocbuild/bbs-3.23-bioc/R/bin/R CMD build --keep-empty-dirs --no-resave-data geNetClassifier StartedAt: 2025-11-09 17:41:08 -0500 (Sun, 09 Nov 2025) EndedAt: 2025-11-09 17:41:24 -0500 (Sun, 09 Nov 2025) EllapsedTime: 16.0 seconds RetCode: 0 Status: OK PackageFile: geNetClassifier_1.51.0.tar.gz PackageFileSize: 3.939 MiB