Package: geNetClassifier Version: 1.51.0 Maintainer: Sara Aibar MaintainerEmail: saibar at usal.es git_url: https://git.bioconductor.org/packages/geNetClassifier git_branch: devel git_last_commit: dd74241 git_last_commit_date: 2025-10-29 10:14:31 -0500 (Wed, 29 Oct 2025)