Package: gDRutils Version: 1.9.2 Command: /home/biocbuild/bbs-3.23-bioc/R/bin/R CMD INSTALL gDRutils StartedAt: 2025-11-17 15:38:25 -0500 (Mon, 17 Nov 2025) EndedAt: 2025-11-17 15:38:47 -0500 (Mon, 17 Nov 2025) EllapsedTime: 22.1 seconds RetCode: 0 Status: OK