Package: gDRutils Version: 1.9.2 Command: /home/biocbuild/bbs-3.23-bioc/R/bin/R CMD build --keep-empty-dirs --no-resave-data gDRutils StartedAt: 2025-11-17 17:49:49 -0500 (Mon, 17 Nov 2025) EndedAt: 2025-11-17 17:50:23 -0500 (Mon, 17 Nov 2025) EllapsedTime: 34.0 seconds RetCode: 0 Status: OK PackageFile: gDRutils_1.9.2.tar.gz PackageFileSize: 344.2 KiB