Package: flowGraph Version: 1.19.0 Command: /home/biocbuild/bbs-3.23-bioc/R/bin/R CMD INSTALL flowGraph StartedAt: 2025-11-09 15:10:10 -0500 (Sun, 09 Nov 2025) EndedAt: 2025-11-09 15:10:24 -0500 (Sun, 09 Nov 2025) EllapsedTime: 13.8 seconds RetCode: 0 Status: OK