Package: flowGraph Version: 1.19.0 Maintainer: Alice Yue MaintainerEmail: aya43 at sfu.ca git_url: https://git.bioconductor.org/packages/flowGraph git_branch: devel git_last_commit: 7de3bf9 git_last_commit_date: 2025-10-29 11:04:59 -0500 (Wed, 29 Oct 2025)