Package: flowCore Version: 2.23.0 Command: /home/biocbuild/bbs-3.23-bioc/R/bin/R CMD INSTALL flowCore StartedAt: 2025-11-09 15:12:39 -0500 (Sun, 09 Nov 2025) EndedAt: 2025-11-09 15:13:21 -0500 (Sun, 09 Nov 2025) EllapsedTime: 42.0 seconds RetCode: 0 Status: OK