Package: flowAI Version: 1.41.0 Command: /home/biocbuild/bbs-3.23-bioc/R/bin/R CMD INSTALL flowAI StartedAt: 2025-11-09 15:13:33 -0500 (Sun, 09 Nov 2025) EndedAt: 2025-11-09 15:13:45 -0500 (Sun, 09 Nov 2025) EllapsedTime: 12.1 seconds RetCode: 0 Status: OK