Package: flowAI Version: 1.41.0 Maintainer: Gianni Monaco MaintainerEmail: mongianni1 at gmail.com git_url: https://git.bioconductor.org/packages/flowAI git_branch: devel git_last_commit: 2f7054f git_last_commit_date: 2025-10-29 10:29:32 -0500 (Wed, 29 Oct 2025)