Package: fastseg Version: 1.57.0 Command: /home/biocbuild/bbs-3.23-bioc/R/bin/R CMD build --keep-empty-dirs --no-resave-data fastseg StartedAt: 2025-11-14 17:35:08 -0500 (Fri, 14 Nov 2025) EndedAt: 2025-11-14 17:35:56 -0500 (Fri, 14 Nov 2025) EllapsedTime: 48.0 seconds RetCode: 0 Status: OK PackageFile: fastseg_1.57.0.tar.gz PackageFileSize: 718.4 KiB