Package: epidecodeR Version: 1.19.0 Command: /home/biocbuild/bbs-3.23-bioc/R/bin/R CMD INSTALL epidecodeR StartedAt: 2025-11-09 15:26:35 -0500 (Sun, 09 Nov 2025) EndedAt: 2025-11-09 15:27:08 -0500 (Sun, 09 Nov 2025) EllapsedTime: 32.4 seconds RetCode: 0 Status: OK