Package: epidecodeR Version: 1.19.0 Maintainer: Kandarp Joshi MaintainerEmail: kandarpbioinfo at gmail.com git_url: https://git.bioconductor.org/packages/epidecodeR git_branch: devel git_last_commit: 15cacf7 git_last_commit_date: 2025-10-29 11:07:52 -0500 (Wed, 29 Oct 2025)