Package: ensembldb Version: 2.35.0 Command: /home/biocbuild/bbs-3.23-bioc/R/bin/R CMD INSTALL ensembldb StartedAt: 2025-11-07 15:39:07 -0500 (Fri, 07 Nov 2025) EndedAt: 2025-11-07 15:39:48 -0500 (Fri, 07 Nov 2025) EllapsedTime: 41.0 seconds RetCode: 0 Status: OK