Package: enrichplot Version: 1.31.0 Command: /home/biocbuild/bbs-3.23-bioc/R/bin/R CMD INSTALL enrichplot StartedAt: 2025-11-07 15:45:52 -0500 (Fri, 07 Nov 2025) EndedAt: 2025-11-07 15:46:16 -0500 (Fri, 07 Nov 2025) EllapsedTime: 24.3 seconds RetCode: 0 Status: OK