Package: enrichViewNet Version: 1.9.0 Command: /home/biocbuild/bbs-3.23-bioc/R/bin/R CMD build --keep-empty-dirs --no-resave-data enrichViewNet StartedAt: 2025-11-07 17:26:13 -0500 (Fri, 07 Nov 2025) EndedAt: 2025-11-07 17:27:14 -0500 (Fri, 07 Nov 2025) EllapsedTime: 61.2 seconds RetCode: 0 Status: OK PackageFile: enrichViewNet_1.9.0.tar.gz PackageFileSize: 5.071 MiB