Package: enrichViewNet Version: 1.9.0 Maintainer: Astrid DeschĂȘnes MaintainerEmail: adeschen at hotmail.com git_url: https://git.bioconductor.org/packages/enrichViewNet git_branch: devel git_last_commit: a935360 git_last_commit_date: 2025-10-29 11:26:13 -0500 (Wed, 29 Oct 2025)