Package: easyreporting Version: 1.23.0 Maintainer: Dario Righelli MaintainerEmail: dario.righelli at gmail.com git_url: https://git.bioconductor.org/packages/easyreporting git_branch: devel git_last_commit: b544232 git_last_commit_date: 2025-10-29 10:56:14 -0500 (Wed, 29 Oct 2025)