Package: diffuStats Version: 1.31.0 Command: /home/biocbuild/bbs-3.23-bioc/R/bin/R CMD INSTALL diffuStats StartedAt: 2025-11-07 15:07:56 -0500 (Fri, 07 Nov 2025) EndedAt: 2025-11-07 15:08:24 -0500 (Fri, 07 Nov 2025) EllapsedTime: 28.4 seconds RetCode: 0 Status: OK