Package: diffuStats Version: 1.31.0 Maintainer: Sergio Picart-Armada MaintainerEmail: sergi.picart at upc.edu git_url: https://git.bioconductor.org/packages/diffuStats git_branch: devel git_last_commit: 5cda747 git_last_commit_date: 2025-10-29 10:39:37 -0500 (Wed, 29 Oct 2025)