Package: diffcyt Version: 1.31.0 Maintainer: Lukas M. Weber MaintainerEmail: lmweb012 at gmail.com git_url: https://git.bioconductor.org/packages/diffcyt git_branch: devel git_last_commit: 5b52099 git_last_commit_date: 2025-10-29 10:44:30 -0500 (Wed, 29 Oct 2025)