Package: diffcoexp Version: 1.31.0 Maintainer: Wenbin Wei MaintainerEmail: wenbin.wei2 at durham.ac.uk git_url: https://git.bioconductor.org/packages/diffcoexp git_branch: devel git_last_commit: 8943d77 git_last_commit_date: 2025-10-29 10:43:50 -0500 (Wed, 29 Oct 2025)