Package: diffUTR Version: 1.19.0 Command: /home/biocbuild/bbs-3.23-bioc/R/bin/R CMD INSTALL diffUTR StartedAt: 2025-11-07 15:41:14 -0500 (Fri, 07 Nov 2025) EndedAt: 2025-11-07 15:42:00 -0500 (Fri, 07 Nov 2025) EllapsedTime: 45.6 seconds RetCode: 0 Status: OK