Package: diffUTR Version: 1.19.0 Command: /home/biocbuild/bbs-3.23-bioc/R/bin/R CMD check --install=check:diffUTR.install-out.txt --library=/home/biocbuild/bbs-3.23-bioc/R/site-library --timings diffUTR_1.19.0.tar.gz StartedAt: 2025-11-07 23:00:23 -0500 (Fri, 07 Nov 2025) EndedAt: 2025-11-07 23:06:20 -0500 (Fri, 07 Nov 2025) EllapsedTime: 357.4 seconds RetCode: 0 Status: OK CheckDir: diffUTR.Rcheck Warnings: 0