Package: diffUTR Version: 1.19.0 Maintainer: Pierre-Luc Germain MaintainerEmail: pierre-luc.germain at hest.ethz.ch git_url: https://git.bioconductor.org/packages/diffUTR git_branch: devel git_last_commit: 2f86b30 git_last_commit_date: 2025-10-29 11:09:14 -0500 (Wed, 29 Oct 2025)