Package: diffGeneAnalysis Version: 1.93.0 Maintainer: Choudary Jagarlamudi MaintainerEmail: choudary.jagar at swosu.edu git_url: https://git.bioconductor.org/packages/diffGeneAnalysis git_branch: devel git_last_commit: 9a23ca1 git_last_commit_date: 2025-10-29 09:56:51 -0500 (Wed, 29 Oct 2025)