Package: ddPCRclust Version: 1.31.0 Command: /home/biocbuild/bbs-3.23-bioc/R/bin/R CMD INSTALL ddPCRclust StartedAt: 2025-11-09 15:13:56 -0500 (Sun, 09 Nov 2025) EndedAt: 2025-11-09 15:14:08 -0500 (Sun, 09 Nov 2025) EllapsedTime: 12.2 seconds RetCode: 0 Status: OK