Package: ddPCRclust Version: 1.31.0 Maintainer: Benedikt G. Brink MaintainerEmail: bbrink at cebitec.uni-bielefeld.de git_url: https://git.bioconductor.org/packages/ddPCRclust git_branch: devel git_last_commit: 3ada4f8 git_last_commit_date: 2025-10-29 10:43:29 -0500 (Wed, 29 Oct 2025)